BEGIN:VCALENDAR
VERSION:2.0
PRODID:-//ChamberMaster//Event Calendar 2.0//EN
METHOD:PUBLISH
X-PUBLISHED-TTL:P3D
REFRESH-INTERVAL:P3D
CALSCALE:GREGORIAN
BEGIN:VEVENT
DTSTART:20190413T220000Z
DTEND:20190413T223000Z
X-MICROSOFT-CDO-ALLDAYEVENT:FALSE
SUMMARY:Second Saturday Supper in Shelburne
DESCRIPTION:Roast pork dinner - homemade applesauce\, cake for dsessert.
X-ALT-DESC;FMTTYPE=text/html:Roast pork dinner - homemade applesauce\, cake for dsessert.
LOCATION:Fellowship Hall ittle Mohawk Road in Shelburne.
UID:e.2182.14959
SEQUENCE:3
DTSTAMP:20260426T014534Z
URL:http://franklinccdev.chambermaster.com/events/details/second-saturday-supper-in-shelburne-14959
END:VEVENT

END:VCALENDAR
