BEGIN:VCALENDAR
VERSION:2.0
PRODID:-//ChamberMaster//Event Calendar 2.0//EN
METHOD:PUBLISH
X-PUBLISHED-TTL:P3D
REFRESH-INTERVAL:P3D
CALSCALE:GREGORIAN
BEGIN:VEVENT
DTSTART:20210424T110000Z
DTEND:20210424T150000Z
X-MICROSOFT-CDO-ALLDAYEVENT:FALSE
SUMMARY:Spring Pancake Breakfast (Drive Thru)
DESCRIPTION:Event by Colrain Firefighters' Association.\n\nThis is a drive-thru event.
X-ALT-DESC;FMTTYPE=text/html:Event by Colrain Firefighters&#39\; Association.<br />\nThis is a drive-thru event.
LOCATION:22 Jacksonville Rd\, Colrain\, MA 01340
UID:e.2182.17927
SEQUENCE:3
DTSTAMP:20260421T050608Z
URL:http://franklinccdev.chambermaster.com/events/details/spring-pancake-breakfast-drive-thru-17927
END:VEVENT

END:VCALENDAR
