BEGIN:VCALENDAR
VERSION:2.0
PRODID:-//ChamberMaster//Event Calendar 2.0//EN
METHOD:PUBLISH
X-PUBLISHED-TTL:P3D
REFRESH-INTERVAL:P3D
CALSCALE:GREGORIAN
BEGIN:VEVENT
DTSTART:20190410T200000Z
DTEND:20190411T010000Z
X-MICROSOFT-CDO-ALLDAYEVENT:FALSE
SUMMARY:Stop the Mud Fundraiser
DESCRIPTION:Help the Franklin County Fairgrounds Mudslide Cleanup. A portion of the sales will be donated to the fund. Raffles\, games\, trivia contest\, and more.
X-ALT-DESC;FMTTYPE=text/html:Help the Franklin County Fairgrounds Mudslide Cleanup. A portion of the sales will be donated to the fund. Raffles\, games\, trivia contest\, and more.
LOCATION:The People's Pint 24 Federal Street\, Grenefield
UID:e.2182.14890
SEQUENCE:3
DTSTAMP:20260425T103335Z
URL:http://franklinccdev.chambermaster.com/events/details/stop-the-mud-fundraiser-14890
END:VEVENT

END:VCALENDAR
