BEGIN:VCALENDAR
VERSION:2.0
PRODID:-//ChamberMaster//Event Calendar 2.0//EN
METHOD:PUBLISH
X-PUBLISHED-TTL:P3D
REFRESH-INTERVAL:P3D
CALSCALE:GREGORIAN
BEGIN:VEVENT
DTSTART;VALUE=DATE:20210730
DTEND;VALUE=DATE:20210731
TRANSP:TRANSPARENT
X-MICROSOFT-CDO-ALLDAYEVENT:TRUE
SUMMARY:Story Walk® The Busy Tree
DESCRIPTION:For young readers ages 3-7 and everyone who loves trees. Enjoy a story\, fresh air and exercise! Join us on the grounds of the center for a FREE self-guided StoryWalk  featuring the children's picture book The Busy Tree by Jennifer Ward. Follow the path to laminated book pages posted along the route. A wonderful story celebrating trees awaits! The StoryWalk  may not be available during lawn mowing. * \n\n * The StoryWalk  Project was created by Anne Ferguson of Montpelier\, VT and developed in collaboration with the Kellogg-Hubbard Library. Story Walk  is a registered service mark owned by Ms. Ferguson. This StoryWalk  is provided by Massachusetts Department of Conservation and Recreation Interpretive Services.
X-ALT-DESC;FMTTYPE=text/html:For young readers ages 3-7 and everyone who loves trees. Enjoy a story\, fresh air and exercise! Join us on the grounds of the center for a FREE self-guided StoryWalk&reg\; featuring the children&rsquo\;s picture book The Busy Tree by Jennifer Ward. Follow the path to laminated book pages posted along the route. A wonderful story celebrating trees awaits! The StoryWalk&reg\; may not be available during lawn mowing. *&nbsp\;<br />\n&nbsp\;* The StoryWalk&reg\; Project was created by Anne Ferguson of Montpelier\, VT and developed in collaboration with the Kellogg-Hubbard Library. Story Walk&reg\; is a registered service mark owned by Ms. Ferguson. This StoryWalk&reg\; is provided by Massachusetts Department of Conservation and Recreation Interpretive Services.&nbsp\;
LOCATION:Great Falls Discovery Center Department of Conservation and Recreation 2 Avenue A\, Turners Falls\, MA
UID:e.2182.18251
SEQUENCE:3
DTSTAMP:20260419T210321Z
URL:http://franklinccdev.chambermaster.com/events/details/story-walk-the-busy-tree-18251
END:VEVENT

END:VCALENDAR
