BEGIN:VCALENDAR
VERSION:2.0
PRODID:-//ChamberMaster//Event Calendar 2.0//EN
METHOD:PUBLISH
X-PUBLISHED-TTL:P3D
REFRESH-INTERVAL:P3D
CALSCALE:GREGORIAN
BEGIN:VEVENT
DTSTART:20191218T173000Z
DTEND:20191218T183000Z
X-MICROSOFT-CDO-ALLDAYEVENT:FALSE
SUMMARY:Suns Mass Meet and Greet
DESCRIPTION:Come meet the faces of Suns Mass and Harvest to learn how we improve lives through the goodness of cannabis.
X-ALT-DESC;FMTTYPE=text/html:Come meet the faces of Suns Mass and Harvest to learn how we improve lives through the goodness of cannabis.
LOCATION:South County Senior Center 67 North Main Street South Deerfield\, MA
UID:e.2182.15928
SEQUENCE:3
DTSTAMP:20260425T034009Z
URL:http://franklinccdev.chambermaster.com/events/details/suns-mass-meet-and-greet-15928
END:VEVENT

END:VCALENDAR
