BEGIN:VCALENDAR
VERSION:2.0
PRODID:-//ChamberMaster//Event Calendar 2.0//EN
METHOD:PUBLISH
X-PUBLISHED-TTL:P3D
REFRESH-INTERVAL:P3D
CALSCALE:GREGORIAN
BEGIN:VEVENT
DTSTART:20210529T130000Z
DTEND:20210529T180000Z
X-MICROSOFT-CDO-ALLDAYEVENT:FALSE
SUMMARY:Tag Sale Extravaganza
DESCRIPTION:In the spirit of what would have been the annual Gas Engine Show the United Church of Bernadston is holding a tag sale. In addtion to the tag sale there will be food sales. The Bernardston Farmers' Market will also be open.
X-ALT-DESC;FMTTYPE=text/html:In the spirit of what would have been the annual Gas Engine Show the United Church of Bernadston is holding a tag sale. In addtion to the tag sale there will be food sales. The Bernardston Farmers&#39\; Market will also be open.
LOCATION:United Church of Bernardston\, Church Street\, Bernardston
UID:e.2182.18043
SEQUENCE:3
DTSTAMP:20260420T072439Z
URL:http://franklinccdev.chambermaster.com/events/details/tag-sale-extravaganza-18043
END:VEVENT

END:VCALENDAR
