BEGIN:VCALENDAR
VERSION:2.0
PRODID:-//ChamberMaster//Event Calendar 2.0//EN
METHOD:PUBLISH
X-PUBLISHED-TTL:P3D
REFRESH-INTERVAL:P3D
CALSCALE:GREGORIAN
BEGIN:VEVENT
DTSTART:20201127T143000Z
DTEND:20201127T213000Z
X-MICROSOFT-CDO-ALLDAYEVENT:FALSE
SUMMARY:Take and Make: Pine Cone Owl Kit
DESCRIPTION:Visitors to the Flynt Center on Friday\, November 27\, may take home a kit to make a cute owl from a pine cone. Directions\, a pine cone\, felt\, and craft materials are included in the kit. This craft owl is easy to make and fun for all ages!
X-ALT-DESC;FMTTYPE=text/html:Visitors to the Flynt Center on Friday\, November 27\, may take home a kit to make a cute owl from a pine cone. Directions\, a pine cone\, felt\, and craft materials are included in the kit. This craft owl is easy to make and fun for all ages!
LOCATION:Historic Deerfield 80 Old Main Street\, Deerfield
UID:e.2182.17712
SEQUENCE:3
DTSTAMP:20260421T211711Z
URL:http://franklinccdev.chambermaster.com/events/details/take-and-make-pine-cone-owl-kit-17712
END:VEVENT

END:VCALENDAR
