BEGIN:VCALENDAR
VERSION:2.0
PRODID:-//ChamberMaster//Event Calendar 2.0//EN
METHOD:PUBLISH
X-PUBLISHED-TTL:P3D
REFRESH-INTERVAL:P3D
CALSCALE:GREGORIAN
BEGIN:VEVENT
DTSTART:20191123T153000Z
DTEND:20191123T163000Z
X-MICROSOFT-CDO-ALLDAYEVENT:FALSE
SUMMARY:Teens and the Law!
DESCRIPTION:Presented by Staff Sergeant Lee R. Laster of the Montague Police Department\n\nSaturday\, November 23rd from 10:30-11:30\n\nThis is an event that will focus on the young driver   a parent or guardian is encouraged to attend!  Do you have a new driver in your family or one that will soon be contemplating taking the written portion of the exam?  Should YOUR young driver take a Driver's Education course?  What are the requirements needed to obtain a driver's license?  What does a Junior Operator mean?  Are there restrictions?  What are the laws and penalties both parents and new drivers should be aware of?  Come and learn first hand from a concerned community police officer before you take the leap!  Tell others who might benefit.  Light refreshments provided by GSB and facts provided by Staff Sergeant Lee R. Laster!
X-ALT-DESC;FMTTYPE=text/html:Presented by Staff Sergeant Lee R. Laster of the Montague Police Department<br />\nSaturday\, November 23<sup>rd</sup> from 10:30-11:30<br />\nThis is an event that will focus on the young driver&hellip\;&hellip\; a parent or guardian is encouraged to attend!&nbsp\; Do you have a new driver in your family or one that will soon be contemplating taking the written portion of the exam?&nbsp\; Should YOUR young driver take a Driver&rsquo\;s Education course?&nbsp\; What are the requirements needed to obtain a driver&rsquo\;s license?&nbsp\; What does a Junior Operator mean?&nbsp\; Are there restrictions?&nbsp\; What are the laws and penalties both parents and new drivers should be aware of?&nbsp\; Come and learn first hand from a concerned community police officer before you take the leap!&nbsp\; Tell others who might benefit.&nbsp\; Light refreshments provided by GSB and facts provided by Staff Sergeant Lee R. Laster!
LOCATION:Greenfield Savings Bank Avenue A\, Turners Falls
UID:e.2182.15909
SEQUENCE:3
DTSTAMP:20260424T175411Z
URL:http://franklinccdev.chambermaster.com/events/details/teens-and-the-law-15909
END:VEVENT

END:VCALENDAR
