BEGIN:VCALENDAR
VERSION:2.0
PRODID:-//ChamberMaster//Event Calendar 2.0//EN
METHOD:PUBLISH
X-PUBLISHED-TTL:P3D
REFRESH-INTERVAL:P3D
CALSCALE:GREGORIAN
BEGIN:VEVENT
DTSTART:20200201T220000Z
DTEND:20200202T000000Z
X-MICROSOFT-CDO-ALLDAYEVENT:FALSE
SUMMARY:The Mitten: In Silhouette
DESCRIPTION:The Mitten: In Silhouette A Pop-Up Window Theatre w/ Shadow Puppets Presented by Electric Kale Productions in collaboration with Source Studios ~ Come see what happens when a mitten is dropped in the snow and a passel of curious animals discover its cozy interior. Performed entirely with shadow puppets\, this pop-up window theatre makes a special appearance during Greenfield Winter Carnival on Saturday\, February 1. Staged in the windows of Source Studios\, on the second floor of 267 Main Street in downtown Greenfield\, the performance is best viewed from the sidewalk in front of the GCC building. Catch a show every 15 minutes\, between 5pm-7pm! Free! *This program is supported in part by grants from the Greenfield\, Leyden\, Gill\, and Conway Cultural Councils\, local agencies which are supported by the Mass Cultural Council\, a state agency.* Thank you for supporting the arts!
X-ALT-DESC;FMTTYPE=text/html:The Mitten: In Silhouette A Pop-Up Window Theatre w/ Shadow Puppets Presented by Electric Kale Productions in collaboration with Source Studios ~ Come see what happens when a mitten is dropped in the snow and a passel of curious animals discover its cozy interior. Performed entirely with shadow puppets\, this pop-up window theatre makes a special appearance during Greenfield Winter Carnival on Saturday\, February 1. Staged in the windows of Source Studios\, on the second floor of 267 Main Street in downtown Greenfield\, the performance is best viewed from the sidewalk in front of the GCC building. Catch a show every 15 minutes\, between 5pm-7pm! Free! *This program is supported in part by grants from the Greenfield\, Leyden\, Gill\, and Conway Cultural Councils\, local agencies which are supported by the Mass Cultural Council\, a state agency.* Thank you for supporting the arts!
LOCATION:Windows of 267 Main Street\, Greenfield
UID:e.2182.16015
SEQUENCE:3
DTSTAMP:20260424T143721Z
URL:http://franklinccdev.chambermaster.com/events/details/the-mitten-in-silhouette-16015
END:VEVENT

END:VCALENDAR
