BEGIN:VCALENDAR
VERSION:2.0
PRODID:-//ChamberMaster//Event Calendar 2.0//EN
METHOD:PUBLISH
X-PUBLISHED-TTL:P3D
REFRESH-INTERVAL:P3D
CALSCALE:GREGORIAN
BEGIN:VEVENT
DTSTART:20240511T220000Z
DTEND:20240512T020000Z
X-MICROSOFT-CDO-ALLDAYEVENT:FALSE
SUMMARY:Time Travelers Ball
DESCRIPTION:Travel back in time and dance with us! Dress in your favorite decade's fashion from any century you want!\n\nRefreshments\, live music and dancing. Silent auction and more to support the Ashfield Historical Society.
X-ALT-DESC;FMTTYPE=text/html:<div class="xdj266r x11i5rnm xat24cr x1mh8g0r x1vvkbs" style="margin: 0px\; overflow-wrap: break-word\; font-family: &quot\;Segoe UI Historic&quot\;\, &quot\;Segoe UI&quot\;\, Helvetica\, Arial\, sans-serif\; color: rgb(5\, 5\, 5)\; font-size: 15px\;">Travel back in time and dance with us! Dress in your favorite decade&#39\;s fashion from any century you want!</div>\n\n<div class="x11i5rnm xat24cr x1mh8g0r x1vvkbs xtlvy1s" style="margin: 0.5em 0px 0px\; overflow-wrap: break-word\; font-family: &quot\;Segoe UI Historic&quot\;\, &quot\;Segoe UI&quot\;\, Helvetica\, Arial\, sans-serif\; color: rgb(5\, 5\, 5)\; font-size: 15px\;">Refreshments\, live music and dancing. Silent auction and more to support the Ashfield Historical Society.</div>\n
LOCATION:Ashfield Town Hall 412 Main Street\, Ashfield
UID:e.2182.23040
SEQUENCE:3
DTSTAMP:20260424T034408Z
URL:http://franklinccdev.chambermaster.com/events/details/time-travelers-ball-23040
END:VEVENT

END:VCALENDAR
