BEGIN:VCALENDAR
VERSION:2.0
PRODID:-//ChamberMaster//Event Calendar 2.0//EN
METHOD:PUBLISH
X-PUBLISHED-TTL:P3D
REFRESH-INTERVAL:P3D
CALSCALE:GREGORIAN
BEGIN:VEVENT
DTSTART:20200214T230000Z
DTEND:20200215T003000Z
X-MICROSOFT-CDO-ALLDAYEVENT:FALSE
SUMMARY:Valentine Dinner
DESCRIPTION:Chef Kevin Hollister will be cooking Vegetable Lasagna\, etc. To benefit the Colrain Historical Society.
X-ALT-DESC;FMTTYPE=text/html:Chef Kevin Hollister will be cooking Vegetable Lasagna\, etc. To benefit the Colrain Historical Society.
LOCATION:Buckland-Shelburne Community Center Main Street\, Shelburne Falls
UID:e.2182.16076
SEQUENCE:3
DTSTAMP:20260423T092347Z
URL:http://franklinccdev.chambermaster.com/events/details/valentine-dinner-16076
END:VEVENT

END:VCALENDAR
