BEGIN:VCALENDAR
VERSION:2.0
PRODID:-//ChamberMaster//Event Calendar 2.0//EN
METHOD:PUBLISH
X-PUBLISHED-TTL:P3D
REFRESH-INTERVAL:P3D
CALSCALE:GREGORIAN
BEGIN:VEVENT
DTSTART:20200118T153000Z
DTEND:20200118T163000Z
X-MICROSOFT-CDO-ALLDAYEVENT:FALSE
SUMMARY:Who’s Been Here? A Tracking Adventure
DESCRIPTION:Join DCR staff for a tracking adventure to find out who has been outside in the snow at the Discovery Center. We will investigate the mysterious signs that wildlife leave behind through stories\, crafts\, and exploring outside. Bundle up! For ages 3   6 with a parent or guardian. Siblings and friends welcome.
X-ALT-DESC;FMTTYPE=text/html:Join DCR staff for a tracking adventure to find out who has been outside in the snow at the Discovery Center. We will investigate the mysterious signs that wildlife leave behind through stories\, crafts\, and exploring outside. Bundle up! For ages 3 &ndash\; 6 with a parent or guardian. Siblings and friends welcome.&nbsp\;
LOCATION:Great Falls Discovery Center 2 Avenue A\, Turners Falls
UID:e.2182.15993
SEQUENCE:3
DTSTAMP:20260424T173257Z
URL:http://franklinccdev.chambermaster.com/events/details/who-s-been-here-a-tracking-adventure-15993
END:VEVENT

END:VCALENDAR
