BEGIN:VCALENDAR
VERSION:2.0
PRODID:-//ChamberMaster//Event Calendar 2.0//EN
METHOD:PUBLISH
X-PUBLISHED-TTL:P3D
REFRESH-INTERVAL:P3D
CALSCALE:GREGORIAN
BEGIN:VEVENT
DTSTART:20200118T180000Z
DTEND:20200118T210000Z
X-MICROSOFT-CDO-ALLDAYEVENT:FALSE
SUMMARY:Winter Trails Day
DESCRIPTION:Winter Trails Day offers older children and adults new to snow sports the chance to try snowshoeing and cross country skiing for free\, and to discover the great fitness and social benefits of these easy-to-learn winter sports. Winter Trails Day involves almost 100 resorts and Nordic Centers nationwide\, and gets 11\,000 kids and adults on the snow each year. At Northfield Mountain free clinics for first time skiers begin at 1:00\, 2:00 and 3:00 p.m. and last for 45 minutes. Thirty minute snowshoe clinics are offered at 1:30\, 2:30 and 3:30 p.m. Clinic participants must be new to the sport and arrive 30 minutes in advance of their scheduled start time to sign in and pick up equipment. \n\nEvent is dependent on trail conditions (we must be open for skiing).
X-ALT-DESC;FMTTYPE=text/html:Winter Trails Day offers older children and adults new to snow sports the chance to try snowshoeing and cross country skiing for free\, and to discover the great fitness and social benefits of these easy-to-learn winter sports. Winter Trails Day involves almost 100 resorts and Nordic Centers nationwide\, and gets 11\,000 kids and adults on the snow each year. At Northfield Mountain free clinics for first time skiers begin at 1:00\, 2:00 and 3:00 p.m. and last for 45 minutes. Thirty minute snowshoe clinics are offered at 1:30\, 2:30 and 3:30 p.m. Clinic participants must be new to the sport and arrive 30 minutes in advance of their scheduled start time to sign in and pick up equipment.&nbsp\;<br />\nEvent is dependent on trail conditions (we must be open for skiing).
LOCATION:Northfield Mountain\, 99 Millers Falls Road\, RT 63\, Northfield
UID:e.2182.15998
SEQUENCE:3
DTSTAMP:20260422T213614Z
URL:http://franklinccdev.chambermaster.com/events/details/winter-trails-day-15998
END:VEVENT

END:VCALENDAR
