BEGIN:VCALENDAR
VERSION:2.0
PRODID:-//ChamberMaster//Event Calendar 2.0//EN
METHOD:PUBLISH
X-PUBLISHED-TTL:P3D
REFRESH-INTERVAL:P3D
CALSCALE:GREGORIAN
BEGIN:VEVENT
DTSTART:20220117T223000Z
DTEND:20220118T003000Z
X-MICROSOFT-CDO-ALLDAYEVENT:FALSE
SUMMARY:Wolf Moon Snowshoe Adventure
DESCRIPTION:January's full moon rises on Martin Luther King Day. Join other nighttime adventurers for this snowshoe hike under the light of the Wolf Moon. Natural history of the night\, quotes\, and moon lore will be shared during this two-mile adventure. All levels of experience are welcome for this moderately strenuous outdoor experience. Participants must be 18 years or older and comfortable hiking over moderate terrain. Masks needed for group gathering. Snowshoes are available to rent for $16. Pre-registration is required as group size is strictly limited for this free program. If there is not enough snow for snowshoeing\, we will hike on our forested trails.
X-ALT-DESC;FMTTYPE=text/html:January&rsquo\;s full moon rises on Martin Luther King Day. Join other nighttime adventurers for this snowshoe hike under the light of the Wolf Moon. Natural history of the night\, quotes\, and moon lore will be shared during this two-mile adventure. All levels of experience are welcome for this moderately strenuous outdoor experience. Participants must be 18 years or older and comfortable hiking over moderate terrain. Masks needed for group gathering. Snowshoes are available to rent for $16. Pre-registration is required as group size is strictly limited for this free program. If there is not enough snow for snowshoeing\, we will hike on our forested trails.&nbsp\;&nbsp\;
LOCATION:Northfield Mountain 99 Millers Falls Road\, Route 63 Northfield\, MA 01360
UID:e.2182.18423
SEQUENCE:3
DTSTAMP:20260419T150652Z
URL:http://franklinccdev.chambermaster.com/events/details/wolf-moon-snowshoe-adventure-18423
END:VEVENT

END:VCALENDAR
